BEGIN:VCALENDAR
VERSION:2.0
PRODID:-//wp-events-plugin.com//7.2.3.1//EN
TZID:America/Detroit
X-WR-TIMEZONE:America/Detroit
BEGIN:VEVENT
UID:1755@lhcfwarren.com
DTSTART;TZID=America/Detroit:20260502T100000
DTEND;TZID=America/Detroit:20260502T114500
DTSTAMP:20260405T113412Z
URL:https://www.lhcfwarren.com/events/womens-fellowship/
SUMMARY:Pocket of Pearls Women's Fellowship
DESCRIPTION:Join us for Pocket of Pearls Women’s Fellowship on the 1st an
 d 3rd Saturdays of each month! We pray together\, then spend 30 minutes re
 ading through Scripture as a group and 30 minutes discussing what we read.
  This meeting will take place at the home of Kathryn and Allyson Elliott a
 nd on Zoom. Email the church at lhcf1@comcast.net for a Zoom invite.
CATEGORIES:Bible Study,Zoom Gathering
LOCATION:mailto:lhcf@lhcfwarren.com
END:VEVENT
BEGIN:VTIMEZONE
TZID:America/Detroit
X-LIC-LOCATION:America/Detroit
BEGIN:DAYLIGHT
DTSTART:20260308T030000
TZOFFSETFROM:-0500
TZOFFSETTO:-0400
TZNAME:EDT
END:DAYLIGHT
END:VTIMEZONE
END:VCALENDAR