BEGIN:VCALENDAR
VERSION:2.0
PRODID:-//wp-events-plugin.com//7.2.3.1//EN
TZID:America/Detroit
X-WR-TIMEZONE:America/Detroit
BEGIN:VEVENT
UID:1682@lhcfwarren.com
DTSTART;TZID=America/Detroit:20260422T120000
DTEND;TZID=America/Detroit:20260422T133000
DTSTAMP:20260415T191513Z
URL:https://www.lhcfwarren.com/events/why-jesus/
SUMMARY:Why Jesus? Women's Bible Study
DESCRIPTION:Why Jesus? Women’s Bible Study is held on Wednesdays at 12:00
  pm. All women are welcome.\n\nThe study will also be available via Zoom i
 f you are not able to attend in person. If you would like to receive a Zo
 om invitation to this meeting\, please email the church at lhcf1@comcast.n
 et or fill out your name and email address below.\n\nClick here to listen 
 to Why Jesus? teachings\n\nI would like a Zoom invite to the Why Jesus? Wo
 men's Bible Study:\n\n[wpforms id="7169"]
CATEGORIES:Bible Study,Gathering,Zoom Gathering
LOCATION:Lord of the Harvest Christian Fellowship\, 21601 Schoenherr Rd\, W
 arren\, MI\, 48088\, United States
X-APPLE-STRUCTURED-LOCATION;VALUE=URI;X-ADDRESS=21601 Schoenherr Rd\, Warre
 n\, MI\, 48088\, United States;X-APPLE-RADIUS=100;X-TITLE=Lord of the Harv
 est Christian Fellowship:geo:0,0
END:VEVENT
BEGIN:VTIMEZONE
TZID:America/Detroit
X-LIC-LOCATION:America/Detroit
BEGIN:DAYLIGHT
DTSTART:20260308T030000
TZOFFSETFROM:-0500
TZOFFSETTO:-0400
TZNAME:EDT
END:DAYLIGHT
END:VTIMEZONE
END:VCALENDAR